BEGIN:VCALENDAR
VERSION:2.0
PRODID:-//wp-events-plugin.com//7.2.3.1//EN
TZID:America/Los_Angeles
X-WR-TIMEZONE:America/Los_Angeles
BEGIN:VEVENT
UID:637@breathebayarea.us
DTSTART;TZID=America/Los_Angeles:20241109T150000
DTEND;TZID=America/Los_Angeles:20241109T190000
DTSTAMP:20241015T121524Z
URL:https://breathebayarea.us/events/breathing-together-partner-breathing-
 creating-more-intimacy-and-flow-of-love/
SUMMARY:Breathing Together( Partner Breathing): Creating more intimacy\, an
 d flow of love
DESCRIPTION:The Yoga Society of San Francisco invites couples to a transfor
 mative workshop titled “Breathing Together\,” where the power of partn
 er breathing will be explored to deepen connections and enhance intimacy. 
 In this unique experience\, participants will engage in synchronized breat
 hwork\, allowing them to harmonize their energies and cultivate a beautifu
 l flow of love between them.\n\nAs poet Robert Bly beautifully puts it\, 
 “A man and a woman sit near each other\; as they breathe\, they feel som
 eone we do not know\, someone we know of\, whom we have never seen.”\n\n
 Workshop Overview\n\nIn this four-hour session\, couples will learn to con
 nect with their bodies and emotions through shared breath. The workshop wi
 ll focus on developing skills that promote intimacy\, freshness\, and a lo
 ving connection through conscious breathing. Participants will gain insigh
 ts into deepening their relationship from a spiritual (Non-Dual Tantric Pe
 rspective) and holistic integral approach.\n\nKey Details:\n\n 	Cost: $75
 –$108 per couple\n 	Date: Saturday\, November 9th\, from 3 PM to 7 PM\n 
 	Location: Yoga Society of San Francisco\, 2872 Folsom Street\, San Franci
 sco\, CA\n\nWhat to Expect\n\nThroughout the workshop\, couples will explo
 re practices that transform their intimacy and connection into something v
 ibrant and alive rather than mechanical or routine. Participants will enha
 nce their skills in communication\, sensitivity\, and presence\, allowing 
 them to enjoy each other more fully and grow together.\n\nBreathing Practi
 ces Included:\n\n 	Embracing the body and breath to awaken the inner lover
 \n 	Fostering intimacy through deep\, conscious touch and breath\n 	Tuning
  into each other’s breathing and expressing through breath words\n 	Brea
 thing with eye contact and physical presence\n\nAs B Prior notes\, “It i
 s possible for man and woman to be so ONE that they transcend all space an
 d time and in that know One Goodness\, One God-ness\, One Love\, One utter
  Realization that knows no end.”\n\nJoin this journey into deeper intima
 cy\, where life transcends the separate self and becomes a celebration of 
 love and truth.\n\nThis workshop is designed for couples seeking to enrich
  their connection and embrace the beauty of shared breathing as a pathway 
 to deeper love and intimacy.\n\nGET TICKETS\n
ATTACH;FMTTYPE=image/jpeg:https://breathebayarea.us/wp-content/uploads/202
 4/10/Breathing-Together.jpeg
CATEGORIES:Wellness Events
LOCATION:Yoga Society of San Francisco\,  2872 Folsom St\, San Francisco\, 
 California\, 94110\, CA\, United States
X-APPLE-STRUCTURED-LOCATION;VALUE=URI;X-ADDRESS= 2872 Folsom St\, San Franc
 isco\, California\, 94110\, CA\, United States;X-APPLE-RADIUS=100;X-TITLE=
 Yoga Society of San Francisco:geo:0,0
END:VEVENT
BEGIN:VTIMEZONE
TZID:America/Los_Angeles
X-LIC-LOCATION:America/Los_Angeles
BEGIN:STANDARD
DTSTART:20241103T010000
TZOFFSETFROM:-0700
TZOFFSETTO:-0800
TZNAME:PST
END:STANDARD
END:VTIMEZONE
END:VCALENDAR