BEGIN:VCALENDAR
VERSION:2.0
PRODID:-//wp-events-plugin.com//7.2.3.1//EN
TZID:America/Los_Angeles
X-WR-TIMEZONE:America/Los_Angeles
BEGIN:VEVENT
UID:501@breathebayarea.us
DTSTART;TZID=America/Los_Angeles;VALUE=DATE:20240920
DTEND;TZID=America/Los_Angeles;VALUE=DATE:20241027
DTSTAMP:20240928T172904Z
URL:https://breathebayarea.us/events/californias-great-americas-tricks-and
 -treats/
SUMMARY:California's Great America's Tricks and Treats
DESCRIPTION:Get ready for a spooktacular time at California's Great America
  with their annual Tricks and Treats Halloween celebration\, perfect for a
 ll ages! This family-friendly event offers a delightful mix of spooky and 
 silly Halloween activities that will entertain everyone from the littlest 
 ghouls to the most seasoned Halloween fans.\n\nEnjoy a lineup of live show
 s\, where whimsical characters take center stage\, creating a festive atmo
 sphere that's as fun as it is frightfully funny. Guests can join in the ex
 citement with a costume contest\, showcasing the most creative\, spooky\, 
 and hilarious outfits. Throughout the park\, indulge in seasonal food and 
 drink offerings specially crafted for the Halloween season\, and don't mis
 s out on the candy stations\, where trick-or-treating brings sweet rewards
  for all.\n\nIn addition to the Halloween-themed fun\, visitors can also e
 njoy their favorite rides and attractions. From thrilling coasters to fami
 ly-friendly rides\, the park is transformed into a Halloween wonderland. W
 ith a mix of spookiness and laughter\, California’s Great America promis
 es a fang-tastic experience for everyone\, ensuring a memorable day filled
  with smiles\, sweets\, and seasonal delights.\n\nGET TICKETS\n
ATTACH;FMTTYPE=image/jpeg:https://breathebayarea.us/wp-content/uploads/202
 4/09/Tricks-and-Treats.jpg
CATEGORIES:Things To Do
LOCATION:4701 Great America Pkwy\, Santa Clara\, San Francisco\, California
 \, 95054\, CA\, United States
X-APPLE-STRUCTURED-LOCATION;VALUE=URI;X-ADDRESS=Santa Clara\, San Francisco
 \, California\, 95054\, CA\, United States;X-APPLE-RADIUS=100;X-TITLE=4701
  Great America Pkwy:geo:0,0
END:VEVENT
BEGIN:VTIMEZONE
TZID:America/Los_Angeles
X-LIC-LOCATION:America/Los_Angeles
BEGIN:DAYLIGHT
DTSTART:20240310T030000
TZOFFSETFROM:-0800
TZOFFSETTO:-0700
TZNAME:PDT
END:DAYLIGHT
END:VTIMEZONE
END:VCALENDAR