BEGIN:VCALENDAR
VERSION:2.0
PRODID:-//wp-events-plugin.com//7.2.3.1//EN
TZID:America/Los_Angeles
X-WR-TIMEZONE:America/Los_Angeles
BEGIN:VEVENT
UID:195@breathebayarea.us
DTSTART;TZID=America/Los_Angeles:20240615T130000
DTEND;TZID=America/Los_Angeles:20240615T190000
DTSTAMP:20240524T110611Z
URL:https://breathebayarea.us/events/chocolate-and-art-show-2/
SUMMARY:CHOCOLATE AND ART SHOW
DESCRIPTION:Immerse yourself in an eclectic showcase of San Francisco's eme
 rging artists\, photographers\, and creators at the Chocolate and Art Show
 . This vibrant event offers a diverse array of attractions and activities 
 designed to engage and delight attendees of all interests.\n\nGuests can e
 njoy live body painting\, where artists transform models into living canva
 ses\, showcasing their creative talents in real-time. The event also featu
 res live music performances\, providing an energetic and immersive soundtr
 ack that enhances the artistic atmosphere.\n\nFor those interested in a mo
 re interactive experience\, face-painting stations will be available\, all
 owing attendees to become part of the artistic display themselves. Skilled
  portrait artists will be on hand\, offering live portraits that capture t
 he essence and individuality of their subjects.\n\nAnd\, as the name sugge
 sts\, the Chocolate and Art Show wouldn't be complete without an indulgent
  selection of free chocolate. This delicious treat adds a sweet touch to t
 he evening\, making it a feast for both the eyes and the taste buds.\n\nTh
 e Chocolate and Art Show San Francisco is a celebration of creativity and 
 community\, bringing together a rich tapestry of visual and performing art
 s. Whether you're an art enthusiast\, a music lover\, or simply looking fo
 r a unique and enjoyable experience\, there's something for everyone to en
 joy.\n\nGET TICKETS\n
ATTACH;FMTTYPE=image/jpeg:https://breathebayarea.us/wp-content/uploads/202
 4/05/CHOCOLATE-AND-ART-SHOW-SAN-FRANCISCO.jpg
LOCATION:SOMArts Cultural Center\, 934 Brannan Street San Francisco\, San F
 rancisco\, California\,  94103\, CA\, United States
X-APPLE-STRUCTURED-LOCATION;VALUE=URI;X-ADDRESS=934 Brannan Street San Fran
 cisco\, San Francisco\, California\,  94103\, CA\, United States;X-APPLE-R
 ADIUS=100;X-TITLE=SOMArts Cultural Center:geo:0,0
END:VEVENT
BEGIN:VTIMEZONE
TZID:America/Los_Angeles
X-LIC-LOCATION:America/Los_Angeles
BEGIN:DAYLIGHT
DTSTART:20240310T030000
TZOFFSETFROM:-0800
TZOFFSETTO:-0700
TZNAME:PDT
END:DAYLIGHT
END:VTIMEZONE
END:VCALENDAR