BEGIN:VCALENDAR
VERSION:2.0
PRODID:-//wp-events-plugin.com//7.2.3.1//EN
TZID:America/Los_Angeles
X-WR-TIMEZONE:America/Los_Angeles
BEGIN:VEVENT
UID:216@breathebayarea.us
DTSTART;TZID=America/Los_Angeles:20240624T190000
DTEND;TZID=America/Los_Angeles:20240624T213000
DTSTAMP:20240609T084142Z
URL:https://breathebayarea.us/events/circling-relational-mindfulness-and-a
 uthentic-relating/
SUMMARY:Circling: Relational Mindfulness and Authentic Relating
DESCRIPTION:Step into the transformative space of Circle of Connection\, wh
 ere Morgan will lead you through a 2.5-hour exploration of deep presence a
 nd authentic relating. Throughout the session\, participants will engage i
 n mindful connection\, fostering a deeper understanding of themselves and 
 others.\n\nDuring the session\, you'll be invited to notice and share what
 ever arises within you as it relates to the others present. Through mindfu
 l sharing and active listening\, you'll learn to take responsibility for y
 our experiences and create an environment where everyone feels seen and he
 ard. This practice cultivates a sense of intimacy and realness\, allowing 
 for authentic connections to flourish.\n\nBy the end of the session\, you'
 ll gain valuable communication tools and a heightened awareness of how to 
 navigate your own emotional states and those of others. You'll leave feeli
 ng enriched by the depth of connection experienced during the circle.\n\nH
 ere's what to expect: Participants will gather in a circle throughout the 
 session. The session will begin with introductions\, where each person sha
 res their name\, current state of being\, and intention for the evening. W
 arm-up exercises and games will follow\, designed to deepen presence and e
 nhance expression.\n\nThe main part of the session will involve focus circ
 les\, where one person is the center of attention\, and flow circles\, whe
 re the group interacts collectively. Alternatively\, an extended flow sess
 ion may be held. The session will conclude with a brief round of reflectio
 ns\, where participants share their insights and takeaways from the experi
 ence.\n\nGET TICKETS\n
ATTACH;FMTTYPE=image/jpeg:https://breathebayarea.us/wp-content/uploads/202
 4/06/Circling-Relational-Mindfulness-and-Authentic-Relating.jpg
CATEGORIES:Mindfulness Events,Wellness Events
LOCATION:The Center SF\, 548 Fillmore Street\, San Francisco\, California\,
  94117\, United States
X-APPLE-STRUCTURED-LOCATION;VALUE=URI;X-ADDRESS=548 Fillmore Street\, San F
 rancisco\, California\, 94117\, United States;X-APPLE-RADIUS=100;X-TITLE=T
 he Center SF:geo:0,0
END:VEVENT
BEGIN:VTIMEZONE
TZID:America/Los_Angeles
X-LIC-LOCATION:America/Los_Angeles
BEGIN:DAYLIGHT
DTSTART:20240310T030000
TZOFFSETFROM:-0800
TZOFFSETTO:-0700
TZNAME:PDT
END:DAYLIGHT
END:VTIMEZONE
END:VCALENDAR