BEGIN:VCALENDAR
VERSION:2.0
PRODID:-//wp-events-plugin.com//7.2.3.1//EN
TZID:America/Los_Angeles
X-WR-TIMEZONE:America/Los_Angeles
BEGIN:VEVENT
UID:204@breathebayarea.us
DTSTART;TZID=America/Los_Angeles:20240601T130000
DTEND;TZID=America/Los_Angeles:20240601T150000
DTSTAMP:20240524T091638Z
URL:https://breathebayarea.us/events/enneagram-through-yoga/
SUMMARY:Enneagram Through Yoga
DESCRIPTION:Explore the synergy between personality and physical embodiment
  in a unique workshop that integrates the Enneagram with yoga practice.\n\
 nIn this transformative two-hour workshop\, participants will dive deep in
 to self-awareness and personal growth by exploring the nine Enneagram type
 s through yoga. The experience promises to be enriching and enlightening\,
  offering the following:\n\n🧘‍♀️ Embody Your Being: Engage in yog
 a postures that correspond with the distinctive traits of each Enneagram t
 ype\, facilitating a deeper connection with your personal attributes.\n\n
 💫 Unlock Possibilities: Discover how to interact with the nine Enneagra
 m personality shapes and qualities\, utilizing their potential to enrich v
 arious aspects of your life.\n\n🌿 Apply Insights: Gain practical knowle
 dge on how to bring more balance into your everyday life\, both on and off
  the yoga mat.\nWhat to Expect\nThe workshop will start with a gentle warm
 -up\, progressing into an exploration of yoga poses suitable for beginners
 . Participants are encouraged to wear comfortable clothing and bring their
  own yoga mat if possible. The session will cover the fundamentals of the 
 Enneagram\, allowing time for discussion\, self-reflection\, and a brief Q
 &amp\;A session at the end. Bringing a notebook and pen is advisable for n
 oting down insights and reflections.\nKnowing Your Enneagram Type\nWhile k
 nowing your Enneagram type beforehand is beneficial\, it is not a requirem
 ent for attending the workshop. Recommended resources for furthering Ennea
 gram knowledge will be provided post-workshop. For those interested in tak
 ing an Enneagram assessment prior to the session\, the Enneagram Test by T
 he Enneagram Group is recommended.\n\nParticipants will leave the workshop
  with a deeper understanding of their personality through the Enneagram an
 d how to embody this knowledge through yoga\, fostering both personal and 
 physical growth.\n\nGET TICKETS\n
ATTACH;FMTTYPE=image/jpeg:https://breathebayarea.us/wp-content/uploads/202
 4/05/Enneagram-Through-Yoga.jpg
CATEGORIES:Yoga Events
LOCATION:Yoga Flow SF - Ocean\, 385 Ashton Avenue San Francisco\, San Franc
 isco\, California\, 94112\, CA\, United States
X-APPLE-STRUCTURED-LOCATION;VALUE=URI;X-ADDRESS=385 Ashton Avenue San Franc
 isco\, San Francisco\, California\, 94112\, CA\, United States;X-APPLE-RAD
 IUS=100;X-TITLE=Yoga Flow SF - Ocean:geo:0,0
END:VEVENT
BEGIN:VTIMEZONE
TZID:America/Los_Angeles
X-LIC-LOCATION:America/Los_Angeles
BEGIN:DAYLIGHT
DTSTART:20240310T030000
TZOFFSETFROM:-0800
TZOFFSETTO:-0700
TZNAME:PDT
END:DAYLIGHT
END:VTIMEZONE
END:VCALENDAR