BEGIN:VCALENDAR
VERSION:2.0
PRODID:-//wp-events-plugin.com//7.2.3.1//EN
TZID:America/Los_Angeles
X-WR-TIMEZONE:America/Los_Angeles
BEGIN:VEVENT
UID:632@breathebayarea.us
DTSTART;TZID=America/Los_Angeles:20241108T183000
DTEND;TZID=America/Los_Angeles:20241108T203000
DTSTAMP:20241015T114203Z
URL:https://breathebayarea.us/events/greater-bay-area-dental-society-gener
 al-membership-meeting/
SUMMARY:Greater Bay Area Dental Society General Membership Meeting
DESCRIPTION:\n\n\n\n\nThe Greater Bay Area Dental Society will hold its Gen
 eral Membership Meeting\, bringing together dental professionals from acro
 ss the region. This gathering serves as a vital forum for members to netwo
 rk\, share insights\, and stay updated on the latest advancements in denta
 l practices\, technologies\, and regulations.\n\nThe meeting offers an opp
 ortunity for dentists\, hygienists\, and other dental professionals to col
 laborate\, discuss challenges facing the industry\, and explore solutions 
 aimed at improving patient care. Attendees can expect informative presenta
 tions from leading experts\, covering topics such as innovative treatment 
 techniques\, emerging trends in oral health\, and new developments in dent
 al technology.\n\nIn addition to educational sessions\, the General Member
 ship Meeting allows members to engage with industry partners\, explore new
  products and services\, and strengthen professional relationships within 
 the dental community.\n\nThis event is not only a valuable source of conti
 nuing education but also a platform for fostering collaboration and growth
  among dental professionals committed to advancing the field of dentistry 
 in the Greater Bay Area.\n\n\n\n\n\n\n\n\n\n&nbsp\;\n\n\n\n4o\n\nGET TICKE
 TS\n\n\n\n\n
ATTACH;FMTTYPE=image/jpeg:https://breathebayarea.us/wp-content/uploads/202
 4/10/Greater-Bay-Area-Dental-Society-General-Membership-Meeting.jpeg
CATEGORIES:Wellness Events
LOCATION:Southeast Community Center\, 1550 Evans Avenue \, San Francisco\, 
 California\, 94124\, CA\, United States
X-APPLE-STRUCTURED-LOCATION;VALUE=URI;X-ADDRESS=1550 Evans Avenue \, San Fr
 ancisco\, California\, 94124\, CA\, United States;X-APPLE-RADIUS=100;X-TIT
 LE=Southeast Community Center:geo:0,0
END:VEVENT
BEGIN:VTIMEZONE
TZID:America/Los_Angeles
X-LIC-LOCATION:America/Los_Angeles
BEGIN:STANDARD
DTSTART:20241103T010000
TZOFFSETFROM:-0700
TZOFFSETTO:-0800
TZNAME:PST
END:STANDARD
END:VTIMEZONE
END:VCALENDAR