BEGIN:VCALENDAR
VERSION:2.0
PRODID:-//wp-events-plugin.com//7.2.3.1//EN
TZID:America/Los_Angeles
X-WR-TIMEZONE:America/Los_Angeles
BEGIN:VEVENT
UID:520@breathebayarea.us
DTSTART;TZID=America/Los_Angeles:20241025T210000
DTEND;TZID=America/Los_Angeles:20241026T013000
DTSTAMP:20240929T083129Z
URL:https://breathebayarea.us/events/halloween-ball/
SUMMARY:Halloween Ball
DESCRIPTION:Step into a world of enchantment and excitement at the Hallowee
 n Ball\, a thrilling event set to unfold at the elegant Redwood Room in Th
 e Clift Hotel. Attendees are invited to immerse themselves in a night fill
 ed with all things spooky and sensational. This festive occasion promises 
 an array of entertainment\, including a dazzling dance floor where guests 
 can showcase their best Halloween costumes while grooving to an electrifyi
 ng mix of music.\n\nAs the night unfolds\, revelers can expect an atmosphe
 re buzzing with Halloween spirit\, where creativity and imagination take c
 enter stage. With fellow Halloween enthusiasts all around\, it’s the per
 fect opportunity to meet new friends and celebrate the season in style.\n\
 nWhether you plan to dazzle in a whimsical outfit or make a statement with
  a hauntingly glamorous look\, this is your moment to shine. The Halloween
  Ball is not just another party\; it’s an experience filled with laughte
 r\, joy\, and unforgettable memories.\n\nTickets are available now\, so do
 n’t miss out on this chance to be part of a night that promises to be bo
 th thrilling and enchanting. Prepare yourself for an evening you won’t s
 oon forget as you dance\, mingle\, and celebrate the magic of Halloween!\n
 \nGET TICKETS\n
ATTACH;FMTTYPE=image/jpeg:https://breathebayarea.us/wp-content/uploads/202
 4/09/Halloween-Ball.jpg
CATEGORIES:Things To Do
LOCATION:Redwood Room by The Clift\, 495 Geary Street \, San Francisco\, Ca
 lifornia\, 94102\, CA\, United States
X-APPLE-STRUCTURED-LOCATION;VALUE=URI;X-ADDRESS=495 Geary Street \, San Fra
 ncisco\, California\, 94102\, CA\, United States;X-APPLE-RADIUS=100;X-TITL
 E=Redwood Room by The Clift:geo:0,0
END:VEVENT
BEGIN:VTIMEZONE
TZID:America/Los_Angeles
X-LIC-LOCATION:America/Los_Angeles
BEGIN:DAYLIGHT
DTSTART:20240310T030000
TZOFFSETFROM:-0800
TZOFFSETTO:-0700
TZNAME:PDT
END:DAYLIGHT
END:VTIMEZONE
END:VCALENDAR