BEGIN:VCALENDAR
VERSION:2.0
PRODID:-//wp-events-plugin.com//7.2.3.1//EN
TZID:America/Los_Angeles
X-WR-TIMEZONE:America/Los_Angeles
BEGIN:VEVENT
UID:189@breathebayarea.us
DTSTART;TZID=America/Los_Angeles:20240608T100000
DTEND;TZID=America/Los_Angeles:20240609T180000
DTSTAMP:20240514T185916Z
URL:https://breathebayarea.us/events/harvest-integration-summit-2024/
SUMMARY:Harvest Integration Summit 2024
DESCRIPTION:Embark on a journey of self-discovery and professional growth a
 cross two immersive days featuring eight meticulously crafted sessions. Ea
 ch session is tailored to unravel the intricacies of preparation and integ
 ration\, guided by seasoned facilitators dedicated to making the experienc
 e engaging and accessible.\nEngagement Beyond Expectations\nFrom dynamic d
 iscussions to hands-on practice sessions\, from artistic expression to inn
 ovative engagement techniques\, participants will find themselves fully im
 mersed in the exploration of integration work. This comprehensive approach
  ensures that the journey is not just informative but also deeply enrichin
 g\, honoring both the work and the individuals it serves.\nUnveiling Deepe
 r Realms: The Essence of Integration\nWhile many may be acquainted with th
 e basics of preparation and integration\, the summit delves deeper\, unvei
 ling the profound potential of this practice. Through insightful discussio
 ns and practical guidance\, participants will gain a newfound understandin
 g of what integration truly entails and how to navigate its complexities w
 ith finesse.\nA Confluence of Minds: Community and Connection\nBeyond the 
 realm of professional development\, the summit serves as a long-awaited ga
 thering for professionals across various disciplines. It provides a platfo
 rm for meaningful connections to be forged\, insights to be exchanged\, an
 d wisdom to be shared. Recognizing the symbiotic relationship between abov
 e-ground medical practitioners and their underground counterparts\, the su
 mmit fosters an environment where diverse perspectives converge and collec
 tive learning flourishes.\nNourishing Body and Soul: Catered Vegetarian Lu
 nch\nEnhancing the experience further\, both days will feature a delectabl
 e catered vegetarian lunch. This nourishing reprieve not only sustains the
  body but also fosters moments of connection and camaraderie among partici
 pants.\n\nThe Harvest Integration Summit 2024 emerges as a beacon of enlig
 htenment and communal nourishment\, inviting participants to embark on a p
 rofound journey of exploration\, connection\, and growth.\n\nGET TICKETS\n
ATTACH;FMTTYPE=image/jpeg:https://breathebayarea.us/wp-content/uploads/202
 4/05/Harvest-Integration-Summit-2024.jpg
CATEGORIES:Mindfulness Events
LOCATION:The Berkeley Alembic\, 2820 Seventh Street Berkeley\, California\,
  CA\, 94710\, United States
X-APPLE-STRUCTURED-LOCATION;VALUE=URI;X-ADDRESS=2820 Seventh Street Berkele
 y\, California\, CA\, 94710\, United States;X-APPLE-RADIUS=100;X-TITLE=The
  Berkeley Alembic:geo:0,0
END:VEVENT
BEGIN:VTIMEZONE
TZID:America/Los_Angeles
X-LIC-LOCATION:America/Los_Angeles
BEGIN:DAYLIGHT
DTSTART:20240310T030000
TZOFFSETFROM:-0800
TZOFFSETTO:-0700
TZNAME:PDT
END:DAYLIGHT
END:VTIMEZONE
END:VCALENDAR