BEGIN:VCALENDAR
VERSION:2.0
PRODID:-//wp-events-plugin.com//7.2.3.1//EN
TZID:America/Los_Angeles
X-WR-TIMEZONE:America/Los_Angeles
BEGIN:VEVENT
UID:299@breathebayarea.us
DTSTART;TZID=America/Los_Angeles:20240714T084500
DTEND;TZID=America/Los_Angeles:20240714T094500
DTSTAMP:20240703T043558Z
URL:https://breathebayarea.us/events/mats-mimosas/
SUMMARY:Mats + Mimosas
DESCRIPTION:Pelican Pose Yoga invites you to join them on the scenic deck o
 f Sam's Anchor Cafe for their vibrant summer yoga series: Mats + Mimosas. 
 Dive into a revitalizing morning with an invigorating Rise + Shine Vinyasa
  session\, guided by Holistic Wellness Coach and Yoga Teacher\, Hannah Pri
 ce. Experience a dynamic blend of poses\, music\, breathwork\, and the soo
 thing tones of the harmonium\, designed to strengthen the body\, calm the 
 mind\, energize the spirit\, and open the heart.\n\nActivities:\n\n 	Rise 
 + Shine Vinyasa: Hannah Price leads an energetic and uplifting vinyasa flo
 w\, perfect for all levels of yoga enthusiasts. Start your day with moveme
 nt\, mindfulness\, and a sense of inner calm against the backdrop of the b
 ay.\n 	Mimosas and Brunch: After yoga\, indulge in the famous Sam’s Anch
 or Cafe brunch experience. Each participant receives a complimentary mimos
 a to toast to a morning well spent on the mat.\n\nFamily-Friendly Event:\n
 \n 	Invite Your Loved Ones: Share the summer vibes with family and friends
 . Extend the invitation to join you for brunch and enjoy quality time toge
 ther at one of Sausalito’s beloved waterfront spots.\n\nAbout Pelican Po
 se Yoga: Pelican Pose Yoga is committed to fostering wellness through yoga
 \, bringing together community and mindfulness in inspiring locations like
  Sam's Anchor Cafe. Join them for Mats + Mimosas and discover the joy of y
 oga against the stunning backdrop of the bay.\n\nDon’t Miss Out: Mark yo
 ur calendar for Mats + Mimosas at Sam's Anchor Cafe. Whether you’re a se
 asoned yogi or new to the practice\, this series promises a refreshing sta
 rt to your summer weekends. Experience the blend of yoga\, community\, and
  waterfront dining that makes this event a standout in Sausalito’s summe
 r lineup.\n\nGET TICKETS\n
ATTACH;FMTTYPE=image/jpeg:https://breathebayarea.us/wp-content/uploads/202
 4/07/Mats-Mimosas.jpg
CATEGORIES:Food &amp; Drink Events,Things To Do,Wellness Events,Yoga
 Events
LOCATION:Sam's Anchor Cafe\, 27 Main Street Tiburon\, California\, CA\, 949
 20\, United States
X-APPLE-STRUCTURED-LOCATION;VALUE=URI;X-ADDRESS=27 Main Street Tiburon\, Ca
 lifornia\, CA\, 94920\, United States;X-APPLE-RADIUS=100;X-TITLE=Sam's Anc
 hor Cafe:geo:0,0
END:VEVENT
BEGIN:VTIMEZONE
TZID:America/Los_Angeles
X-LIC-LOCATION:America/Los_Angeles
BEGIN:DAYLIGHT
DTSTART:20240310T030000
TZOFFSETFROM:-0800
TZOFFSETTO:-0700
TZNAME:PDT
END:DAYLIGHT
END:VTIMEZONE
END:VCALENDAR