BEGIN:VCALENDAR
VERSION:2.0
PRODID:-//wp-events-plugin.com//7.2.3.1//EN
TZID:America/Los_Angeles
X-WR-TIMEZONE:America/Los_Angeles
BEGIN:VEVENT
UID:638@breathebayarea.us
DTSTART;TZID=America/Los_Angeles:20241109T190000
DTEND;TZID=America/Los_Angeles:20241109T213000
DTSTAMP:20241015T122131Z
URL:https://breathebayarea.us/events/new-moon-rituals-sound-bath/
SUMMARY:New Moon Rituals & Sound Bath
DESCRIPTION:\n\n\n\n\nThe upcoming workshop\, "New Moon Rituals &amp\; Soun
 d Bath\," offers participants a nurturing space to embark on a journey of 
 self-discovery and intention-setting. The session begins with breathwork a
 nd a guided meditation designed to help attendees set their intentions for
  the month ahead.\n\nFollowing this\, Chelsea Scherer will lead a restorat
 ive yoga nidra practice\, allowing participants to deeply relax and restor
 e. Throughout the session\, Hylong will enhance the experience with a soot
 hing sound healing concert\, featuring gongs\, crystal bowls\, ocean drums
 \, and a variety of other healing instruments.\n\nThis hour-and-a-half wor
 kshop is a perfect opportunity for individuals to focus on self-care and l
 et go of anything that no longer serves them. After the ritual\, attendees
  are invited to connect with one another over healthy snacks and refreshme
 nts\, fostering a sense of community.\n\nParticipants are encouraged to br
 ing their journals to jot down intentions and reflections during the moon 
 circle\, making this workshop not just a healing experience but also a mea
 ningful way to engage with the new moon's energy.\n\n\n\n\n\n\n\n\n\n&nbsp
 \;\n\n\n\n4o mini\n\nGET TICKETS\n\n\n\n\n
ATTACH;FMTTYPE=image/jpeg:https://breathebayarea.us/wp-content/uploads/202
 4/10/New-Moon-Rituals-Sound-Bath.jpeg
CATEGORIES:Wellness Events
LOCATION:Yoga Flow SF - Noe\, 4049 24th Street\, San Francisco\, California
 \, 94114\, CA\, United States
X-APPLE-STRUCTURED-LOCATION;VALUE=URI;X-ADDRESS=4049 24th Street\, San Fran
 cisco\, California\, 94114\, CA\, United States;X-APPLE-RADIUS=100;X-TITLE
 =Yoga Flow SF - Noe:geo:0,0
END:VEVENT
BEGIN:VTIMEZONE
TZID:America/Los_Angeles
X-LIC-LOCATION:America/Los_Angeles
BEGIN:STANDARD
DTSTART:20241103T010000
TZOFFSETFROM:-0700
TZOFFSETTO:-0800
TZNAME:PST
END:STANDARD
END:VTIMEZONE
END:VCALENDAR