BEGIN:VCALENDAR
VERSION:2.0
PRODID:-//wp-events-plugin.com//7.2.3.1//EN
TZID:America/Los_Angeles
X-WR-TIMEZONE:America/Los_Angeles
BEGIN:VEVENT
UID:54@breathebayarea.us
DTSTART;TZID=America/Los_Angeles:20240316T150000
DTEND;TZID=America/Los_Angeles:20240317T220000
DTSTAMP:20240309T134844Z
URL:https://breathebayarea.us/events/night-market-santa-barbara/
SUMMARY:805 Night Market [Santa Barbara] March 16-17
DESCRIPTION:Experience the vibrant tapestry of the 805 Night Market\, where
  food\, culture\, and community converge to create an unforgettable atmosp
 here. This lively event offers a unique fusion of global flavors\, immersi
 ve entertainment\, and opportunities for connection.\n\nStep into a world 
 of culinary delights as you explore the diverse array of food vendors offe
 ring everything from Korean BBQ and Mexican tacos to sushi\, waffle sticks
 \, churros\, Korean corn dogs\, boba\, pupusas\, lobster noodles\, and ice
  cream. Indulge in a culinary adventure as you sample dishes from around t
 he world\, tantalizing your taste buds with each savory bite and sweet tre
 at.\n\nBut the 805 Night Market is more than just a food festival – it's
  a celebration of culture and community. As you stroll through the bustlin
 g marketplace\, you'll encounter a vibrant tapestry of sights\, sounds\, a
 nd smells that reflect the rich diversity of the local community. From liv
 e music and dance performances to carnival games and rides\, there's somet
 hing for everyone to enjoy.\n\nOne of the highlights of the 805 Night Mark
 et is its emphasis on inclusivity and connection. It's a place where peopl
 e from all walks of life can come together to share a meal\, swap stories\
 , and forge new friendships. Whether you're a local resident or a traveler
  passing through\, you'll feel welcomed and embraced by the warm and invit
 ing atmosphere of the 805 Night Market.\n\nTo enhance your experience\, co
 nsider purchasing a Foodie Pass for just $5.00. With this pass\, you can s
 kip the entrance line and come in and out of the event as much as you like
 . It's the perfect way to make the most of your time at the 805 Night Mark
 et without having to worry about long wait times.\n\nFamilies with young c
 hildren will be pleased to know that no tickets are needed for kids under 
 5\, making this a family-friendly event that's accessible to all. So gathe
 r your loved ones\, pack your appetite\, and join us for an evening of foo
 d\, fun\, and fellowship at the 805 Night Market – where memories are ma
 de and traditions are born.\n\n&nbsp\;\n\n&nbsp\;\n\n\nGET TICKETS\n\n
ATTACH;FMTTYPE=image/jpeg:https://breathebayarea.us/wp-content/uploads/202
 4/03/https___cdn.evbuc_.com_images_480121299_559140452739_1_original.jpg
CATEGORIES:Food &amp; Drink Events
LOCATION:Earl Warren Showgrounds\, 3400 Calle Real\,  Santa Barbara\, Calif
 ornia\, 93105\, United States
X-APPLE-STRUCTURED-LOCATION;VALUE=URI;X-ADDRESS=3400 Calle Real\,  Santa Ba
 rbara\, California\, 93105\, United States;X-APPLE-RADIUS=100;X-TITLE=Earl
  Warren Showgrounds:geo:0,0
END:VEVENT
BEGIN:VTIMEZONE
TZID:America/Los_Angeles
X-LIC-LOCATION:America/Los_Angeles
BEGIN:DAYLIGHT
DTSTART:20240310T030000
TZOFFSETFROM:-0800
TZOFFSETTO:-0700
TZNAME:PDT
END:DAYLIGHT
END:VTIMEZONE
END:VCALENDAR