BEGIN:VCALENDAR
VERSION:2.0
PRODID:-//wp-events-plugin.com//7.2.3.1//EN
TZID:America/Los_Angeles
X-WR-TIMEZONE:America/Los_Angeles
BEGIN:VEVENT
UID:198@breathebayarea.us
DTSTART;TZID=America/Los_Angeles:20240623T060000
DTEND;TZID=America/Los_Angeles:20240623T120000
DTSTAMP:20240523T182930Z
URL:https://breathebayarea.us/events/presidio-half-marathon-2024/
SUMMARY:Presidio Half Marathon 2024
DESCRIPTION:The Presidio Half Marathon in San Francisco\, organized by The 
 Guardsmen\, is a delightful\, family-oriented charity race offering partic
 ipants a chance to experience some of the city's most breathtaking views.\
 nScenic Race Route\nThe race begins at Crissy Field\, winds through the hi
 storic Presidio\, and crosses the iconic Golden Gate Bridge\, providing ru
 nners with stunning vistas along the way.\nPost-Race Celebration\nAfter cr
 ossing the finish line\, runners can celebrate their achievement with a si
 gnature pancake and beer breakfast. This festive gathering allows particip
 ants to unwind and savor their accomplishment in a friendly\, communal atm
 osphere.\nRace Options\nThe event offers something for everyone:\n\n 	Half
  Marathon: A challenging 13.1-mile course showcasing the beauty of San Fra
 ncisco.\n 	10K: A shorter\, yet equally scenic\, race for those looking fo
 r a less demanding run.\n 	5K Fun Run + Walk: A relaxed option suitable fo
 r families and walkers\, ensuring everyone can participate and enjoy the e
 vent.\n\nParticipant Perks\nAll runners will receive a gift bag containing
  a race medal\, a t-shirt\, and various goodies from race sponsors\, makin
 g their participation memorable.\nExpo-Only Tickets\nFor those not running
 \, there’s the option to purchase a post-race expo-only ticket. This tic
 ket allows supporters to cheer on their favorite runners at the finish lin
 e and join in the post-race festivities. Enjoy adult beverages and a delic
 ious breakfast while celebrating the runners' achievements.\n\nThe Presidi
 o Half Marathon invites you to be part of a spectacular event that blends 
 fitness\, family fun\, and philanthropy amidst San Francisco’s most stun
 ning landscapes. Whether you’re running or cheering from the sidelines\,
  come and enjoy a day filled with excitement\, beautiful views\, and commu
 nity spirit.\n\nGET TICKETS\n
ATTACH;FMTTYPE=image/jpeg:https://breathebayarea.us/wp-content/uploads/202
 4/05/Presidio-Half-Marathon.jpg
CATEGORIES:Sports &amp; Fitness Events
LOCATION:Crissy Field across from the Sports Basement\, 610 Old Mason St.\,
  San Francisco\, California\, 94129\, CA\, United States
X-APPLE-STRUCTURED-LOCATION;VALUE=URI;X-ADDRESS=610 Old Mason St.\, San Fra
 ncisco\, California\, 94129\, CA\, United States;X-APPLE-RADIUS=100;X-TITL
 E=Crissy Field across from the Sports Basement:geo:0,0
END:VEVENT
BEGIN:VTIMEZONE
TZID:America/Los_Angeles
X-LIC-LOCATION:America/Los_Angeles
BEGIN:DAYLIGHT
DTSTART:20240310T030000
TZOFFSETFROM:-0800
TZOFFSETTO:-0700
TZNAME:PDT
END:DAYLIGHT
END:VTIMEZONE
END:VCALENDAR