BEGIN:VCALENDAR
VERSION:2.0
PRODID:-//wp-events-plugin.com//7.2.3.1//EN
TZID:America/Los_Angeles
X-WR-TIMEZONE:America/Los_Angeles
BEGIN:VEVENT
UID:301@breathebayarea.us
DTSTART;TZID=America/Los_Angeles:20240710T183000
DTEND;TZID=America/Los_Angeles:20240710T203000
DTSTAMP:20240703T052701Z
URL:https://breathebayarea.us/events/relatefulness/
SUMMARY:Relatefulness
DESCRIPTION:Welcome to a transformative twice-monthly drop-in Relatefulness
  practice\, led by Josh Rosenberg and Daniel Ricciardelli. This unique pra
 ctice\, closely related to relational approaches such as Circling™\, Aut
 hentic Relating\, and T-Group\, invites participants to explore what genui
 nely arises in the present moment as they interact with others in the grou
 p.\n\nWhat to Expect:\n\nRelatefulness emphasizes noticing and sharing rel
 ational patterns\, emotions\, body sensations\, and other aspects of perso
 nal experience. By openly communicating these observations\, participants 
 can foster a deeper understanding of themselves\, each other\, and the bro
 ader social reality.\n\nBenefits of Relatefulness:\n\n 	Enhanced Relationa
 l Awareness: Discover new\, more fulfilling ways of relating to your exper
 iences and to others in a supportive group setting.\n 	Practical Personal 
 Growth: Apply insights from personal growth practices in real-time interpe
 rsonal interactions.\n 	Healing Connections: Experience the profound heali
 ng that comes from being deeply seen and understood by others.\n\nCompleme
 ntary to Traditional Meditation:\n\nRelatefulness complements traditional 
 meditation practices by placing awareness on oneself while connecting with
  others. This collective awareness can lead to significant personal and in
 terpersonal growth.\n\nSelf-Care and Participation:\n\nParticipants are en
 couraged to practice self-care\, stepping away or guiding the group into n
 ew ways of being as needed. This ensures that everyone remains comfortable
  and engaged throughout the practice.\n\nJoin us for an enriching experien
 ce of Relatefulness\, where personal insights and interpersonal connection
 s flourish in a dynamic\, supportive environment. Whether you're new to re
 lational practices or a seasoned practitioner\, this practice offers a val
 uable space for growth\, healing\, and authentic connection.\n\nGET TICKET
 S\n
ATTACH;FMTTYPE=image/jpeg:https://breathebayarea.us/wp-content/uploads/202
 4/07/Relatefulness.jpg
CATEGORIES:Mindfulness Events,Wellness Events
LOCATION:The Berkeley Alembic\, 2820 Seventh Street Berkeley\, San Francisc
 o\, California\, 94710\, CA\, United States
X-APPLE-STRUCTURED-LOCATION;VALUE=URI;X-ADDRESS=2820 Seventh Street Berkele
 y\, San Francisco\, California\, 94710\, CA\, United States;X-APPLE-RADIUS
 =100;X-TITLE=The Berkeley Alembic:geo:0,0
END:VEVENT
BEGIN:VTIMEZONE
TZID:America/Los_Angeles
X-LIC-LOCATION:America/Los_Angeles
BEGIN:DAYLIGHT
DTSTART:20240310T030000
TZOFFSETFROM:-0800
TZOFFSETTO:-0700
TZNAME:PDT
END:DAYLIGHT
END:VTIMEZONE
END:VCALENDAR