BEGIN:VCALENDAR
VERSION:2.0
PRODID:-//wp-events-plugin.com//7.2.3.1//EN
TZID:America/Los_Angeles
X-WR-TIMEZONE:America/Los_Angeles
BEGIN:VEVENT
UID:764@breathebayarea.us
DTSTART;TZID=America/Los_Angeles:20241213T180000
DTEND;TZID=America/Los_Angeles:20241213T210000
DTSTAMP:20241207T074900Z
URL:https://breathebayarea.us/events/seas-greetings-a-winter-maritime-cele
 bration/
SUMMARY:Seas & Greetings: A Winter Maritime Celebration
DESCRIPTION:This winter\, the historic San Francisco Maritime Museum invite
 s guests to immerse themselves in the warmth and charm of the season with 
 Seas &amp\; Greetings: A Winter Maritime Celebration. Set against the back
 drop of the stunning waterfront\, this enchanting evening promises an unfo
 rgettable celebration of winter magic\, live music\, seasonal drinks\, and
  a spectacular view of the iconic Lighted Boat Parade.\nEvent Highlights:\
 n\n 	Live Four-String Quartet: Attendees will be serenaded by a talented s
 tring quartet\, filling the air with melodic tunes that capture the essenc
 e of the season and set the perfect mood for an evening of holiday cheer.\
 n 	Breathtaking Waterfront View: The event offers a prime viewing location
  of the Lighted Boat Parade\, where visitors can watch beautifully decorat
 ed boats glide across the bay\, shimmering with festive lights—a truly m
 agical spectacle.\n 	Seasonal Buffet: Guests can indulge in a delicious se
 lection of light bites\, thoughtfully prepared to reflect the warmth and f
 lavors of the holiday season.\n 	Holiday-Inspired Beverages: Sip on season
 ally inspired drinks\, including mulled wine and cider\, perfect for warmi
 ng up on a crisp winter evening while enjoying the festive atmosphere.\n 	
 Good Company in a Historic Setting: Set within the WPA-era San Francisco M
 aritime Museum Building\, this event offers guests the chance to enjoy goo
 d company and seasonal cheer in a uniquely historic venue at the San Franc
 isco Maritime National Historical Park.\n\nA Festive Night to Remember\nWi
 th its delightful blend of music\, stunning views\, and festive ambiance\,
  Seas &amp\; Greetings offers an exceptional opportunity to celebrate the 
 holidays in one of San Francisco's most picturesque settings. The perfect 
 way to kick off the season\, this event brings together community\, cultur
 e\, and holiday spirit\, making it a must-attend celebration for friends\,
  families\, and visitors alike.\n\nJoin in the merriment and embrace the w
 armth of winter at Seas &amp\; Greetings\, where memories are made\, and t
 he magic of the season comes to life.\n\nGET TICKETS\n
ATTACH;FMTTYPE=image/jpeg:https://breathebayarea.us/wp-content/uploads/202
 4/12/Seas-Greetings-A-Winter-Maritime-Celebration.jpg
CATEGORIES:Things To Do
LOCATION:Maritime Museum\, 900 Beach Street\, San Francisco\, California\, 
 94109\, CA\, United States
X-APPLE-STRUCTURED-LOCATION;VALUE=URI;X-ADDRESS=900 Beach Street\, San Fran
 cisco\, California\, 94109\, CA\, United States;X-APPLE-RADIUS=100;X-TITLE
 =Maritime Museum:geo:0,0
END:VEVENT
BEGIN:VTIMEZONE
TZID:America/Los_Angeles
X-LIC-LOCATION:America/Los_Angeles
BEGIN:STANDARD
DTSTART:20241103T010000
TZOFFSETFROM:-0700
TZOFFSETTO:-0800
TZNAME:PST
END:STANDARD
END:VTIMEZONE
END:VCALENDAR