BEGIN:VCALENDAR
VERSION:2.0
PRODID:-//wp-events-plugin.com//7.2.3.1//EN
TZID:America/Los_Angeles
X-WR-TIMEZONE:America/Los_Angeles
BEGIN:VEVENT
UID:200@breathebayarea.us
DTSTART;TZID=America/Los_Angeles:20240609T130000
DTEND;TZID=America/Los_Angeles:20240609T170000
DTSTAMP:20240524T084436Z
URL:https://breathebayarea.us/events/sf-cuddle-party-at-heartlab/
SUMMARY:SF Cuddles - Cuddle Party at HeartLab
DESCRIPTION:\n\n\n\n\nCome join a Cuddle Party at HeartLab in San Francisco
 ! This is a non-sexual\, consent-focused touch event designed to foster pe
 rsonal connection and intimacy in a safe\, welcoming environment. Please n
 ote that all participants must be vaccinated and boosted against COVID-19.
 \nWhat is a Cuddle Party?\nA Cuddle Party is a 3-4 hour workshop where par
 ticipants engage in communication exercises\, explore touch in a non-sexua
 l space\, and experience personal growth alongside like-minded individuals
 . The event is structured to ensure everyone feels comfortable and respect
 ed.\nWhat Happens at a Cuddle Party?\nAt Cuddle Parties\, participants eng
 age in two primary activities:\n\n 	Enjoying Touch: Participants have the 
 opportunity to give and receive caring touch from others who are equally e
 nthusiastic about consensual physical contact.\n 	Practicing Consent: A ke
 y component of Cuddle Parties is learning to ask for what you want and how
  to respond to requests. Participants are guided through the process\, ens
 uring everyone feels confident and comfortable.\n\nWhy is Cuddling Importa
 nt?\nNurturing\, consensual touch is beneficial for maintaining a healthy 
 life\, supporting a strong nervous system\, and achieving emotional balanc
 e. During Cuddle Parties\, participants enhance their ability to connect w
 ith others and develop greater trust through group interactions. Self-care
  is a fundamental aspect of the Cuddle Party experience\, promoting overal
 l well-being.\nEvent Details\n\n 	Location: HeartLab\, San Francisco\, CA\
 n 	COVID-19 Protocols: Participants must be vaccinated and boosted\n\nJoin
  us for an enriching experience where you can learn about the power of con
 sensual touch\, practice self-care\, and build meaningful connections in a
  supportive community.\n\nGET TICKETS\n\n\n\n\n
ATTACH;FMTTYPE=image/jpeg:https://breathebayarea.us/wp-content/uploads/202
 4/05/SF-Cuddles-Cuddle-Party-at-HeartLab.jpg
LOCATION:The HeartLab\, 3095 21st St\, San Francisco\, California\, 94110\,
  CA\, United States
X-APPLE-STRUCTURED-LOCATION;VALUE=URI;X-ADDRESS=3095 21st St\, San Francisc
 o\, California\, 94110\, CA\, United States;X-APPLE-RADIUS=100;X-TITLE=The
  HeartLab:geo:0,0
END:VEVENT
BEGIN:VTIMEZONE
TZID:America/Los_Angeles
X-LIC-LOCATION:America/Los_Angeles
BEGIN:DAYLIGHT
DTSTART:20240310T030000
TZOFFSETFROM:-0800
TZOFFSETTO:-0700
TZNAME:PDT
END:DAYLIGHT
END:VTIMEZONE
END:VCALENDAR