BEGIN:VCALENDAR
VERSION:2.0
PRODID:-//wp-events-plugin.com//7.2.3.1//EN
TZID:America/Los_Angeles
X-WR-TIMEZONE:America/Los_Angeles
BEGIN:VEVENT
UID:217@breathebayarea.us
DTSTART;TZID=America/Los_Angeles:20240619T193000
DTEND;TZID=America/Los_Angeles:20240619T213000
DTSTAMP:20240609T085350Z
URL:https://breathebayarea.us/events/solstice-renewal-acupuncture-sound-ba
 th/
SUMMARY:Solstice Renewal: Acupuncture Sound Bath
DESCRIPTION:Experience an evening of deep rejuvenation and inner harmony at
  our Solstice Renewal event\, featuring an acupuncture sound bath led by t
 he talented musicians Arula &amp\; Nick\, accompanied by licensed acupunct
 urist Kara Morton.\n\nRenewal is an opportunity to reconnect with your inn
 er essence\, tapping into your innate wisdom and boundless potential. Thro
 ughout the session\, you'll have the space to explore your inner landscape
  through mindfulness practices and light energy medicine techniques. Then\
 , immerse yourself in enchanting soundscapes\, allowing the vibrations to 
 renew\, restore\, and align you with your true self.\n\nKara Morton\, an e
 xperienced acupuncturist\, offers optional Classical Acupuncture sessions 
 during the event. These sessions focus on the Extraordinary Vessel meridia
 ns\, balancing yin and yang energies within the body. Through acupuncture\
 , participants are guided out of their minds and into their hearts\, where
  they can experience a sense of wholeness and completeness.\n\nIndulge in 
 a state of deep relaxation with a sound meditation featuring an array of i
 nstruments\, including Native flutes\, Crystal bowls\, Hand Pan\, Acoustic
  Guitar\, Koshi Chimes\, Tibetan bowls\, Rainstick\, Ocean Drum\, Tuning F
 orks\, Native Drum\, Nature soundscape\, and ethereal vocals.\n\nAllow you
 rself to surrender to the transformative power of sound and acupuncture\, 
 leaving feeling renewed\, restored\, and aligned with your highest self.\n
 \nGET TICKETS\n
ATTACH;FMTTYPE=image/jpeg:https://breathebayarea.us/wp-content/uploads/202
 4/06/Solstice-Renewal-Acupuncture-Sound-Bath.jpg
CATEGORIES:Mindfulness Events,Wellness Events
LOCATION:The Center SF\, 548 Fillmore Street\, San Francisco\, California\,
  94117\, United States
X-APPLE-STRUCTURED-LOCATION;VALUE=URI;X-ADDRESS=548 Fillmore Street\, San F
 rancisco\, California\, 94117\, United States;X-APPLE-RADIUS=100;X-TITLE=T
 he Center SF:geo:0,0
END:VEVENT
BEGIN:VTIMEZONE
TZID:America/Los_Angeles
X-LIC-LOCATION:America/Los_Angeles
BEGIN:DAYLIGHT
DTSTART:20240310T030000
TZOFFSETFROM:-0800
TZOFFSETTO:-0700
TZNAME:PDT
END:DAYLIGHT
END:VTIMEZONE
END:VCALENDAR