BEGIN:VCALENDAR
VERSION:2.0
PRODID:-//wp-events-plugin.com//7.2.3.1//EN
TZID:America/Los_Angeles
X-WR-TIMEZONE:America/Los_Angeles
BEGIN:VEVENT
UID:191@breathebayarea.us
DTSTART;TZID=America/Los_Angeles:20240623T020000
DTEND;TZID=America/Los_Angeles:20240623T043000
DTSTAMP:20240514T185752Z
URL:https://breathebayarea.us/events/summer-solstice-soundbath/
SUMMARY:Summer Solstice SoundBath
DESCRIPTION:Experience the Summer Solstice SoundBath\, an immersive event t
 ailored to harmonize with the abundant energy of the year's longest days. 
 Set against the backdrop of celestial radiance\, participants are beckoned
  to delve into the seasonal vibrancy of Summer.\n\nThe Summer Solstice mar
 ks a pinnacle of solar influence\, infusing the Earth with vitality from t
 he cosmos. Amidst the extended daylight hours\, a serene atmosphere envelo
 ps\, inviting contemplation on personal achievements and aspirations. Thro
 ugh ceremonial immersion in resonant sound\, attendees are prompted to cel
 ebrate this significant occasion\, fostering a deep alignment of mind\, bo
 dy\, and spirit\, and nurturing feelings of joy and gratitude.\nExperience
  Highlights\n\n 	Guided Meditation: Journey inward to connect with inner a
 spirations and achievements.\n 	SoundBath: Immerse in resonant sound for p
 rofound alignment of mind\, body\, and spirit.\n 	Ceremony: Commemorate th
 e season's energy and personal growth milestones.\n\nPurpose and Benefits\
 n\n 	Renewed Intentions: Gain clarity and focus for pursuing dreams and as
 pirations.\n 	Energetic Realignment: Harness the power of sound to align w
 ith the season's energies.\n 	Holistic Nourishment: Boost energetic\, phys
 ical\, and emotional well-being.\n\nLed by Nicola Buffa\, a versatile Cali
 fornia-based artist skilled in hypnotherapy\, sound healing\, and Reiki\, 
 the event aims to amplify emotional\, physical\, and energetic well-being\
 , fortifying participants for the radiant season ahead.\n\nGET TICKETS\n
ATTACH;FMTTYPE=image/jpeg:https://breathebayarea.us/wp-content/uploads/202
 4/05/Summer-Solstice-SoundBath.jpg
CATEGORIES:Wellness Events
LOCATION:Unalome Reiki & Wellness\, 300 Valley Street #202 Sausalito\, San 
 Francisco\, CA\, 94965\, United States
X-APPLE-STRUCTURED-LOCATION;VALUE=URI;X-ADDRESS=300 Valley Street #202 Saus
 alito\, San Francisco\, CA\, 94965\, United States;X-APPLE-RADIUS=100;X-TI
 TLE=Unalome Reiki & Wellness:geo:0,0
END:VEVENT
BEGIN:VTIMEZONE
TZID:America/Los_Angeles
X-LIC-LOCATION:America/Los_Angeles
BEGIN:DAYLIGHT
DTSTART:20240310T030000
TZOFFSETFROM:-0800
TZOFFSETTO:-0700
TZNAME:PDT
END:DAYLIGHT
END:VTIMEZONE
END:VCALENDAR