BEGIN:VCALENDAR
VERSION:2.0
PRODID:-//wp-events-plugin.com//7.2.3.1//EN
TZID:America/Los_Angeles
X-WR-TIMEZONE:America/Los_Angeles
BEGIN:VEVENT
UID:192@breathebayarea.us
DTSTART;TZID=America/Los_Angeles:20240609T140000
DTEND;TZID=America/Los_Angeles:20240609T213000
DTSTAMP:20240514T193918Z
URL:https://breathebayarea.us/events/taste-of-downtown-berkeley/
SUMMARY:Taste of Downtown Berkeley
DESCRIPTION:Experience the delectable delights of Downtown Berkeley at the 
 Taste of Downtown Berkeley 2024 event. Take a leisurely stroll through the
  vibrant culinary landscape\, indulging in gourmet bites crafted by talent
 ed local chefs. This gastronomic adventure not only tantalizes the taste b
 uds but also serves a noble cause by supporting the community projects of 
 the Berkeley Rotary Club.\n\nParticipating in this culinary extravaganza m
 eans savoring the culinary creations of esteemed establishments such as Al
 mare Gelato\, Angeline's Louisiana Kitchen\, East Bay Spice Company\, Fish
  &amp\; Bird\, Gather\, Heroic Italian\, Lexie's Frozen Custard\, Noodles 
 Fresh\, North Beach Pizza\, Pizzeria Da Laura\, Revival Bar &amp\; Kitchen
 \, Signal Coffee Roasters\, and ZINO at the Shattuck Hotel.\n\nEach ticket
  sold contributes directly to the Berkeley Rotary Club's initiatives\, mak
 ing a meaningful impact on the local community. So\, don't miss this oppor
 tunity to treat your palate while supporting a worthy cause. Secure your t
 ickets now and embark on a flavorful journey through Downtown Berkeley's c
 ulinary landscape.\n\nGET TICKETS\n
ATTACH;FMTTYPE=image/jpeg:https://breathebayarea.us/wp-content/uploads/202
 4/05/Taste-of-Downtown-Berkeley-2024.jpg
CATEGORIES:Food &amp; Drink Events,Staycations Events
LOCATION:Downtown Berkeley BART Plaza\, 2170 Shattuck Avenue Berkeley\, San
  Francisco\, CA\, 94704\, United States
X-APPLE-STRUCTURED-LOCATION;VALUE=URI;X-ADDRESS=2170 Shattuck Avenue Berkel
 ey\, San Francisco\, CA\, 94704\, United States;X-APPLE-RADIUS=100;X-TITLE
 =Downtown Berkeley BART Plaza:geo:0,0
END:VEVENT
BEGIN:VTIMEZONE
TZID:America/Los_Angeles
X-LIC-LOCATION:America/Los_Angeles
BEGIN:DAYLIGHT
DTSTART:20240310T030000
TZOFFSETFROM:-0800
TZOFFSETTO:-0700
TZNAME:PDT
END:DAYLIGHT
END:VTIMEZONE
END:VCALENDAR