BEGIN:VCALENDAR
VERSION:2.0
PRODID:-//wp-events-plugin.com//7.2.3.1//EN
TZID:America/Los_Angeles
X-WR-TIMEZONE:America/Los_Angeles
BEGIN:VEVENT
UID:635@breathebayarea.us
DTSTART;TZID=America/Los_Angeles:20241113T200000
DTEND;TZID=America/Los_Angeles:20241113T214500
DTSTAMP:20241015T120150Z
URL:https://breathebayarea.us/events/the-brothership-with-jeremy-falk-and-
 nick-johnson-2/
SUMMARY:The Brothership with Jeremy Falk and Nick Johnson
DESCRIPTION:\n\n\n\n\nThe Brothership is a men’s gathering that provides 
 a space for men to connect\, grow\, and support each other through embodim
 ent practices\, breathwork\, meditation\, and brave relating. This experie
 nce is designed to help men step outside of their comfort zones and embrac
 e authentic connection\, recognizing the untapped potential that exists in
  the presence and wisdom of other men.\n\nFor many men\, forming meaningfu
 l friendships\, asking for help\, or being vulnerable in a room full of ot
 her men can feel intimidating and challenging. The Brothership offers a po
 werful alternative to this mindset\, inviting participants to let go of hy
 per-competitive tendencies and shift toward a more heart-centered approach
 . By transitioning from a "Me" mindset to a "We" mindset\, men are empower
 ed to grow together\, navigate their personal challenges\, and ultimately 
 thrive in life through the support of their peers.\n\nThis gathering is op
 en to all male-bodied individuals who resonate with the concepts of brothe
 rhood and the collective masculine journey. Participants will engage in pr
 actices that foster genuine connection\, deep self-reflection\, and person
 al growth\, recognizing that men can gain profound insights when they supp
 ort and listen to one another.\n\nAbout the Facilitators:\n\n 	Jeremy Falk
  brings over 15 years of experience as a teacher of embodiment and meditat
 ion\, specializing in guiding others to reconnect with their bodies and in
 ner wisdom.\n 	Nick Johnson is a poet\, artist\, and seasoned group facili
 tator\, bringing creativity and heart-centered leadership to the space. To
 gether\, Jeremy and Nick have over 5 years of experience co-leading men's 
 programs alongside Shems Heartwell of the Hendricks Institute.\n\nEvent Sc
 hedule:\n\n 	The Brothership meets on the 2nd Wednesday of each month from
  8:15 PM to 9:45 PM. It is a consistent opportunity for men to gather\, re
 flect\, and grow together in a supportive environment.\n\nVolunteering Opp
 ortunities: If you're interested in volunteering for this event in exchang
 e for a ticket\, please complete the provided form. This is an excellent w
 ay to participate and contribute to the community.\n\nNote: No refunds or 
 exchanges are available for this event\, but tickets can be sold or gifted
  to a friend if needed.\n\nThe Brothership creates a welcoming space for m
 en to experience the transformative power of brotherhood and shared growth
 . Through vulnerability\, courage\, and heart-centered connection\, partic
 ipants will leave feeling more aligned\, supported\, and empowered on thei
 r personal journeys.\n\n\n\n\n\n\n\n\n\n&nbsp\;\n\n\n\n4o\n\nGET TICKETS\n
 \n\n\n\n
ATTACH;FMTTYPE=image/jpeg:https://breathebayarea.us/wp-content/uploads/202
 4/10/The-Brothership-with-Jeremy-Falk-and-Nick-Johnson.jpeg
CATEGORIES:Wellness Events
LOCATION:The Center SF\, 548 Fillmore Street \, St San Francisco\, Californ
 ia\, 94117\, CA\, United States
X-APPLE-STRUCTURED-LOCATION;VALUE=URI;X-ADDRESS=548 Fillmore Street \, St S
 an Francisco\, California\, 94117\, CA\, United States;X-APPLE-RADIUS=100;
 X-TITLE=The Center SF:geo:0,0
END:VEVENT
BEGIN:VTIMEZONE
TZID:America/Los_Angeles
X-LIC-LOCATION:America/Los_Angeles
BEGIN:STANDARD
DTSTART:20241103T010000
TZOFFSETFROM:-0700
TZOFFSETTO:-0800
TZNAME:PST
END:STANDARD
END:VTIMEZONE
END:VCALENDAR