BEGIN:VCALENDAR
VERSION:2.0
PRODID:-//wp-events-plugin.com//7.2.3.1//EN
TZID:America/Los_Angeles
X-WR-TIMEZONE:America/Los_Angeles
BEGIN:VEVENT
UID:300@breathebayarea.us
DTSTART;TZID=America/Los_Angeles:20240707T150000
DTEND;TZID=America/Los_Angeles:20240707T170000
DTSTAMP:20240703T044856Z
URL:https://breathebayarea.us/events/the-heart-of-tantra/
SUMMARY:The Heart of Tantra
DESCRIPTION:Join San Francisco's leading Tantra teachers\, Erwan and Alicia
  Davon\, for an exquisite journey into the heart of love and healing. This
  immersive experience is designed to help participants\, whether single or
  in a relationship\, overcome the wounds of past and present relationships
  to cultivate deeper\, more meaningful connections with themselves and oth
 ers.\n\nEvent Highlights:\n\n 	Guided by Experts: Benefit from the wisdom 
 and expertise of Erwan and Alicia Davon\, renowned Tantra teachers who wil
 l lead you through powerful practices and transformative exercises.\n 	Anc
 ient Tools for Modern Healing: Engage with ancient Tantra techniques tailo
 red to facilitate personal growth and emotional healing.\n\nWhat You’ll 
 Experience:\n\n 	Guided Meditation: Connect with your inner self through m
 editative practices that promote mindfulness and emotional clarity.\n 	Int
 eractive Exercises: Participate in engaging activities designed to enhance
  your understanding of love\, communication\, and intimacy.\n 	Healing Pro
 cesses: Learn how to identify and release patterns of trauma\, hurt\, and 
 fear that may be holding you back from experiencing true love and connecti
 on.\n\nKey Benefits:\n\n 	Healthy Communication: Develop skills and bounda
 ries essential for healthy\, respectful relationships.\n 	Self-Love and Ac
 ceptance: Cultivate a profound sense of self-worth and acceptance\, embrac
 ing who you are with love and compassion.\n 	Vulnerability and Intimacy: E
 xplore the power of being vulnerable and intimate in a safe and supportive
  environment.\n 	Conscious Touch and Connection: Discover the healing powe
 r of touch and the deep connections it can foster.\n\nWhy Attend?\n\nThis 
 workshop is not about superficial techniques or quick fixes. It's about cr
 eating a profound shift in how you relate to yourself and others. By the e
 nd of the workshop\, you'll feel empowered\, inspired\, and equipped with 
 practical tools to navigate the complexities of love and relationships wit
 h grace and confidence.\n\nNo Prior Experience Needed:\n\nNo previous expe
 rience with Tantra is necessary. All that’s required is an open heart an
 d mind\, and a willingness to explore and grow.\n\nJoin Us:\n\nEmbark on t
 his journey of healing\, connection\, and transformation. Open your heart 
 to love and discover the true essence of Tantra with Erwan and Alicia Davo
 n.\n\nDon’t miss this opportunity to transform your relationship with yo
 urself and others. Reserve your spot today and take the first step towards
  a more loving and fulfilling life.\n\nGET TICKETS\n
ATTACH;FMTTYPE=image/jpeg:https://breathebayarea.us/wp-content/uploads/202
 4/07/The-Heart-of-Tantra.jpg
CATEGORIES:Mindfulness Events,Wellness Events
LOCATION:The Center SF\, 548 Fillmore Street\, San Francisco\, California\,
  94117\, CA\, United States
X-APPLE-STRUCTURED-LOCATION;VALUE=URI;X-ADDRESS=548 Fillmore Street\, San F
 rancisco\, California\, 94117\, CA\, United States;X-APPLE-RADIUS=100;X-TI
 TLE=The Center SF:geo:0,0
END:VEVENT
BEGIN:VTIMEZONE
TZID:America/Los_Angeles
X-LIC-LOCATION:America/Los_Angeles
BEGIN:DAYLIGHT
DTSTART:20240310T030000
TZOFFSETFROM:-0800
TZOFFSETTO:-0700
TZNAME:PDT
END:DAYLIGHT
END:VTIMEZONE
END:VCALENDAR