BEGIN:VCALENDAR
VERSION:2.0
PRODID:-//wp-events-plugin.com//7.2.3.1//EN
TZID:America/Los_Angeles
X-WR-TIMEZONE:America/Los_Angeles
BEGIN:VEVENT
UID:631@breathebayarea.us
DTSTART;TZID=America/Los_Angeles:20241111T200000
DTEND;TZID=America/Los_Angeles:20241111T213000
DTSTAMP:20241015T113351Z
URL:https://breathebayarea.us/events/the-sound-healing-symphony-%e2%9c%a8-
 1111-%e2%9c%a8/
SUMMARY:The Sound Healing Symphony ✨ 11:11 ✨
DESCRIPTION:\n\n\n\n\nOver 1\,000 individuals will come together in a colle
 ctive moment of stillness and peace\, guided by the immersive power of sou
 nd. "The Sound Healing Symphony" brings together some of the most renowned
  meditative musicians from the West Coast\, uniting their talents to lead 
 participants on a journey to profound relaxation.\n\nThis extraordinary ev
 ent features a wide range of instruments\, including symphonic gongs\, cry
 stal bowls tuned to binaural beats\, monolina\, vibraphones\, didgeridoos\
 , ethereal vocals\, and more\, creating a transformative experience design
 ed to help attendees release tension\, rejuvenate\, and emerge renewed.\n\
 nDuring the event\, most participants will lie down\, as though receiving 
 a sonic massage\, though seating options are also available. The sound bat
 h invites you to let go of stress and worries while soaking in healing vib
 rations.\n\n✨ Event Details:\n\n 	Date: Monday\, October 11th at 8:00 PM
  PST\n 	Arrival: Doors open between 7:00-7:30 PM for attendees to settle i
 n and connect before the experience begins.\n 	Location: Grace Cathedral\,
  1100 California St\, San Francisco\, CA 94108\n\n✨ Musical Artists: Led
  by conductor Guy Douglas\, a talented group of musicians will create a so
 undscape using a diverse range of instruments:\n\n 	Guy Douglas: Conductor
 \, crystal bowls\, gong\, Native American flute\n 	Vladimir Cardema: Didge
 ridoo\, Native American flute\n 	Loriel Starr: Gong\n 	Destiny Muhammed: H
 arp\n 	Alisa Rose Healy: Vocals\n 	Tim DeCillis: Vibraphone\n 	Simona Mari
 e Asinovski: Monolina\n 	Xenia Giolli: Gong\n 	Elizabeth Kimble: Crystal b
 owls\n 	Erica Nguyen: Gong\n 	Karin Collins: Crystal harp\n\nThese skilled
  performers come together to guide participants into a state of clarity\, 
 calm the mind\, and provide a deeper connection to their inner selves.\n\n
 ✨ The Experience: Sound meditation\, also referred to as sound healing\,
  is a practice in which soothing sounds promote deep relaxation and height
 ened states of awareness. It allows participants to reach meditative state
 s that may otherwise take extensive effort to achieve. During this event\,
  participants will be immersed in sound from head to toe in an ethereal\, 
 hypnotic experience.\n\nThis event is especially beneficial for individual
 s who find meditation difficult or feel they cannot reach a peaceful state
 . The transformative power of sound will leave you with a clearer mind and
  a renewed appreciation for the healing arts. Sound Meditation Presents ai
 ms to promote the therapeutic benefits of sound for both physical well-bei
 ng and enhanced consciousness.\n\n✨ Tickets:\n\n 	Laying down experience
 : $45 (recommended for the most relaxing experience)\n 	Seated experience 
 (Pews): $22\n 	Seated experience (Choir): $18\n 	Benefactor Space: $224 (i
 ncludes a cozy front-row setup\; your support helps to expand this healing
  arts practice within the community)\n\n✨ Additional Information:\n\n 	A
 rrive between 7:00 and 7:30 PM. The event will begin promptly at 8:00 PM\,
  and doors will close at that time.\n 	Please dress comfortably and bring 
 water.\n 	Recommended items to bring: a yoga mat\, a pillow\, a blanket\, 
 and water.\n 	The event is non-religious and suitable for individuals 12 y
 ears and older. It is not recommended for those with a history of seizures
  or for pets (service animals permitted with prior arrangement).\n 	For th
 ose who wish to attend but cannot afford the ticket price\, volunteer oppo
 rtunities are available by contacting Simona (at) soundmeditationsf (dot) 
 com.\n\n✨ Photography by: Xiaofan Fang\, Dave Vann\, Kagan Turgut\, Keit
 h Cuddleback\, and James Lee.\n\nJoin us for a sound journey that promises
  to leave you feeling refreshed\, rejuvenated\, and more connected to your
  inner self.\n\n\n\n\n\n\n\n\n\n&nbsp\;\n\n\n\n4o\n\nGET TICKETS\n\n\n\n\n
ATTACH;FMTTYPE=image/jpeg:https://breathebayarea.us/wp-content/uploads/202
 4/10/The-Sound-Healing-Symphony.jpeg
CATEGORIES:Wellness Events
LOCATION:Grace Cathedral\, 1100 California Street\, San Francisco\, Califor
 nia\, 94108\, CA\, United States
X-APPLE-STRUCTURED-LOCATION;VALUE=URI;X-ADDRESS=1100 California Street\, Sa
 n Francisco\, California\, 94108\, CA\, United States;X-APPLE-RADIUS=100;X
 -TITLE=Grace Cathedral:geo:0,0
END:VEVENT
BEGIN:VTIMEZONE
TZID:America/Los_Angeles
X-LIC-LOCATION:America/Los_Angeles
BEGIN:STANDARD
DTSTART:20241103T010000
TZOFFSETFROM:-0700
TZOFFSETTO:-0800
TZNAME:PST
END:STANDARD
END:VTIMEZONE
END:VCALENDAR