BEGIN:VCALENDAR
VERSION:2.0
PRODID:-//wp-events-plugin.com//7.2.3.1//EN
TZID:America/Los_Angeles
X-WR-TIMEZONE:America/Los_Angeles
BEGIN:VEVENT
UID:639@breathebayarea.us
DTSTART;TZID=America/Los_Angeles:20241108T080000
DTEND;TZID=America/Los_Angeles:20241108T160000
DTSTAMP:20241015T122916Z
URL:https://breathebayarea.us/events/wealth-wellness-conference-self-care-
 for-the-powerful-she-e-o/
SUMMARY:Wealth & Wellness Conference: Self Care For The Powerful She. E. O
DESCRIPTION:Are you prepared to explore the realms of both wealth and welln
 ess? As a She.E.O.\, you're at the helm of your empire\, conquering challe
 nges and breaking through barriers every single day. Yet\, balancing it al
 l can sometimes feel overwhelming\, leaving you on the edge of exhaustion.
  We’ve all been there.\n\nIt’s time for a shift—a self-care revoluti
 on! You can't pour from an empty cup\, and it’s time to replenish your e
 nergy and well-being. Indulge in the luxury you deserve at the Wealth &amp
 \; Wellness Conference\, happening from November 8-10\, 2024.\n\nDid you t
 hink last year’s Extravaganza was a game-changer? Prepare for even more 
 at this year's main event! Five exceptional speakers are set to inspire an
 d empower you in both life and business. And that’s just the beginning! 
 More speakers will be announced soon\, along with a bold\, fresh approach 
 that will transform the experience. Stay tuned—you won’t want to miss 
 it!\n\nTickets are now available\, and they are not just ordinary passes
 —they are your gateway to a weekend of transformation\, renewal\, and in
 spiration.\n\nWhy wait? This is your moment to shine\, connect with a supp
 ortive community of women who understand the drive\, the challenges\, and 
 the triumphs of being a She.E.O. Make this November about you—the strong
 \, unstoppable woman you are.\n\nDon’t let this extraordinary opportunit
 y slip by. The best is yet to come\, and you are at the center of it all. 
 Join us and create memories that will last a lifetime as we take on the wo
 rld together.\n\n#WealthAndWellness #SelfCare #SheEO #Empowerment #Transfo
 rmation #InvestInYourself #UnforgettableExperience\n\nGET TICKETS\n
ATTACH;FMTTYPE=image/jpeg:https://breathebayarea.us/wp-content/uploads/202
 4/10/Wealth.jpeg
CATEGORIES:Wellness Events
LOCATION:San Francisco\, San Francisco\, San Francisco\, California\, 94111
 \, CA\, United States
X-APPLE-STRUCTURED-LOCATION;VALUE=URI;X-ADDRESS=San Francisco\, San Francis
 co\, California\, 94111\, CA\, United States;X-APPLE-RADIUS=100;X-TITLE=Sa
 n Francisco:geo:0,0
END:VEVENT
BEGIN:VTIMEZONE
TZID:America/Los_Angeles
X-LIC-LOCATION:America/Los_Angeles
BEGIN:STANDARD
DTSTART:20241103T010000
TZOFFSETFROM:-0700
TZOFFSETTO:-0800
TZNAME:PST
END:STANDARD
END:VTIMEZONE
END:VCALENDAR