BEGIN:VCALENDAR
VERSION:2.0
PRODID:-//wp-events-plugin.com//7.2.3.1//EN
TZID:America/Los_Angeles
X-WR-TIMEZONE:America/Los_Angeles
BEGIN:VEVENT
UID:765@breathebayarea.us
DTSTART;TZID=America/Los_Angeles:20241214T153000
DTEND;TZID=America/Los_Angeles:20241214T180000
DTSTAMP:20241207T145352Z
URL:https://breathebayarea.us/events/winter-wonders-2024/
SUMMARY:Winter Wonders 2024
DESCRIPTION:This December\, immerse yourself in a remarkable celebration of
  student artistry at Winter Wonders 2024\, an afternoon hosted by HSArts t
 hat promises to redefine the traditional recital experience. On Saturday\,
  December 14\, join us at the historic Herbst Theater in San Francisco for
  a captivating showcase of talent\, creativity\, and excellence\, as middl
 e and high school students are joined by the talented young artists of the
  HSArts Dance Conservatory.\nEvent Highlights:\n\n 	Breathtaking Performan
 ces: Enjoy mesmerizing presentations across various artistic disciplines\,
  including ballet\, Chinese dance\, instrumental music\, and vocal artistr
 y. Each performance is carefully curated to demonstrate the exceptional ab
 ilities of the students\, bringing classical arts to life in a way that wi
 ll leave the audience in awe.\n 	Curated Art Exhibition: The event will al
 so feature an art exhibition\, showcasing the finest student drawings and 
 paintings from the fall semester. These works offer a glimpse into the cre
 ative processes of HSArts students\, demonstrating their unique perspectiv
 es and artistic growth.\n 	An Unforgettable Experience: Winter Wonders is 
 not just a recital—it's a true celebration of artistry\, creativity\, an
 d excellence. The combination of live performances and visual art makes fo
 r a deeply enriching and inspiring afternoon that underscores the remarkab
 le talents of young artists.\n\nEvent Details:\n\n 	Date: Saturday\, Decem
 ber 14\, 2024\n 	Time: 3:30 PM – 6:00 PM\n 	Location: Herbst Theater\, 4
 01 Van Ness Ave\, San Francisco\n\nWhy You Should Attend:\nThis special ev
 ent is a unique opportunity to witness the extraordinary potential of youn
 g artists in the fields of dance\, music\, and visual arts. The level of t
 alent on display is sure to inspire\, making Winter Wonders 2024 an aftern
 oon you won’t want to miss. Whether you’re an art enthusiast\, a suppo
 rter of young talent\, or simply someone looking to experience a beautiful
  showcase of creativity\, Winter Wonders promises to be an unforgettable e
 vent.\n\nSecure your tickets today for an afternoon that celebrates the ne
 xt generation of artists and performers.\n\nGET TICKETS\n
ATTACH;FMTTYPE=image/jpeg:https://breathebayarea.us/wp-content/uploads/202
 4/12/Winter-Wonders-2024.jpg
CATEGORIES:Things To Do
LOCATION:Herbst Theatre\, 401 Van Ness Avenue\, San Francisco\, California\
 , 94102\, CA\, United States
X-APPLE-STRUCTURED-LOCATION;VALUE=URI;X-ADDRESS=401 Van Ness Avenue\, San F
 rancisco\, California\, 94102\, CA\, United States;X-APPLE-RADIUS=100;X-TI
 TLE=Herbst Theatre:geo:0,0
END:VEVENT
BEGIN:VTIMEZONE
TZID:America/Los_Angeles
X-LIC-LOCATION:America/Los_Angeles
BEGIN:STANDARD
DTSTART:20241103T010000
TZOFFSETFROM:-0700
TZOFFSETTO:-0800
TZNAME:PST
END:STANDARD
END:VTIMEZONE
END:VCALENDAR